BEGIN:VCALENDAR
VERSION:2.0
PRODID:-//FEWA Global - ECPv6.15.20//NONSGML v1.0//EN
CALSCALE:GREGORIAN
METHOD:PUBLISH
X-WR-CALNAME:FEWA Global
X-ORIGINAL-URL:https://fewaglobal.org
X-WR-CALDESC:Events for FEWA Global
REFRESH-INTERVAL;VALUE=DURATION:PT1H
X-Robots-Tag:noindex
X-PUBLISHED-TTL:PT1H
BEGIN:VTIMEZONE
TZID:America/Chicago
BEGIN:DAYLIGHT
TZOFFSETFROM:-0600
TZOFFSETTO:-0500
TZNAME:CDT
DTSTART:20220313T080000
END:DAYLIGHT
BEGIN:STANDARD
TZOFFSETFROM:-0500
TZOFFSETTO:-0600
TZNAME:CST
DTSTART:20221106T070000
END:STANDARD
BEGIN:DAYLIGHT
TZOFFSETFROM:-0600
TZOFFSETTO:-0500
TZNAME:CDT
DTSTART:20230312T080000
END:DAYLIGHT
BEGIN:STANDARD
TZOFFSETFROM:-0500
TZOFFSETTO:-0600
TZNAME:CST
DTSTART:20231105T070000
END:STANDARD
BEGIN:DAYLIGHT
TZOFFSETFROM:-0600
TZOFFSETTO:-0500
TZNAME:CDT
DTSTART:20240310T080000
END:DAYLIGHT
BEGIN:STANDARD
TZOFFSETFROM:-0500
TZOFFSETTO:-0600
TZNAME:CST
DTSTART:20241103T070000
END:STANDARD
END:VTIMEZONE
BEGIN:VEVENT
DTSTART;VALUE=DATE:20230910
DTEND;VALUE=DATE:20230914
DTSTAMP:20260425T105252
CREATED:20230321T123612Z
LAST-MODIFIED:20230517T165140Z
UID:785-1694304000-1694649599@fewaglobal.org
SUMMARY:NALP Elevate
DESCRIPTION:The National Association of Landscape Professionals conference and expo ELEVATE is the can’t-miss education and networking experience of the year and FEWA will be there. It’s designed by and for landscape maintenance\, lawn care\, design build\, irrigation\, and horticulture professionals who want to grow their business\, stay on top of the latest trends and practices\, and connect with the most talented pros in the business.
URL:https://fewaglobal.org/event/nalp-elevate/
LOCATION:Gaylorg Texan Resort & Conference Center\, 1501 Gaylord Trail\, Grapevine\, TX\, 76051\, United States
ATTACH;FMTTYPE=image/jpeg:https://fewaglobal.org/wp-content/uploads/2022/09/Elevate_Header_Logo_E-e1679402114422.jpg
END:VEVENT
END:VCALENDAR