BEGIN:VCALENDAR
VERSION:2.0
PRODID:-//FEWA Global - ECPv6.15.20//NONSGML v1.0//EN
CALSCALE:GREGORIAN
METHOD:PUBLISH
X-ORIGINAL-URL:https://fewaglobal.org
X-WR-CALDESC:Events for FEWA Global
REFRESH-INTERVAL;VALUE=DURATION:PT1H
X-Robots-Tag:noindex
X-PUBLISHED-TTL:PT1H
BEGIN:VTIMEZONE
TZID:America/Chicago
BEGIN:DAYLIGHT
TZOFFSETFROM:-0600
TZOFFSETTO:-0500
TZNAME:CDT
DTSTART:20220313T080000
END:DAYLIGHT
BEGIN:STANDARD
TZOFFSETFROM:-0500
TZOFFSETTO:-0600
TZNAME:CST
DTSTART:20221106T070000
END:STANDARD
BEGIN:DAYLIGHT
TZOFFSETFROM:-0600
TZOFFSETTO:-0500
TZNAME:CDT
DTSTART:20230312T080000
END:DAYLIGHT
BEGIN:STANDARD
TZOFFSETFROM:-0500
TZOFFSETTO:-0600
TZNAME:CST
DTSTART:20231105T070000
END:STANDARD
BEGIN:DAYLIGHT
TZOFFSETFROM:-0600
TZOFFSETTO:-0500
TZNAME:CDT
DTSTART:20240310T080000
END:DAYLIGHT
BEGIN:STANDARD
TZOFFSETFROM:-0500
TZOFFSETTO:-0600
TZNAME:CST
DTSTART:20241103T070000
END:STANDARD
END:VTIMEZONE
BEGIN:VEVENT
DTSTART;TZID=America/Chicago:20230727T100000
DTEND;TZID=America/Chicago:20230727T103000
DTSTAMP:20260425T135249
CREATED:20230717T142343Z
LAST-MODIFIED:20230717T150214Z
UID:1073-1690452000-1690453800@fewaglobal.org
SUMMARY:What’s In Store for H-2B 2024
DESCRIPTION:The H-2B program has a statutory cap limitation of 66\,000 visas\, 33\,000 allotted for the first half of the fiscal year and 33\,000 for the second half of the fiscal year.  The first half of the fiscal year is from October 1 through March 31st with the second half from April 1 through September 30.  \n\nOn July 10\, 2023\, the U.S. Department of Labor announced that it received applications for more than 33\,000 visas during the initial 3 day filing window for the Fiscal Year 2024 1st half cap.  This is the first time this has occurred in the 1st half of the year and the earliest it has ever happened. \nIn June\, the House Appropriations Committee passed the FY ’24 Homeland Security appropriations bill that includes a one-year returning worker exemption with a three-year look back. This is a very important first step in H-2B Cap Relief. \nJoin FEWA’s lobbying partner\, Laurie Flanagan and FEWA’s Vice President\, Arnulfo Hinojosa in a live discussion on what this means for the H-2B 2024 season. \nYou can attend the webinar by computer or by telephone.  Once registered you will receive your log-in instructions.  If you have any immediate questions or would like additional information regarding FEWA Membership and the H-2B program\, please reach out to us directly.    
URL:https://fewaglobal.org/event/whats-in-store-for-h2b-2024/
LOCATION:On-Line
ATTACH;FMTTYPE=image/jpeg:https://fewaglobal.org/wp-content/uploads/2023/07/Copy-of-Find-A-New-1.jpg
END:VEVENT
BEGIN:VEVENT
DTSTART;VALUE=DATE:20230730
DTEND;VALUE=DATE:20230803
DTSTAMP:20260425T135249
CREATED:20230517T164522Z
LAST-MODIFIED:20230517T165027Z
UID:939-1690675200-1691020799@fewaglobal.org
SUMMARY:Texas Pecan Growers Association Conference & Trade Show
DESCRIPTION:FEWA will be attending the 102nd Annual Texas Pecan Growers Conference & Trade Show will be held at the Embassy Suites Hotel & Conference Center in Denton\, Texas from July 30 – August 2\, 2023.
URL:https://fewaglobal.org/event/texas-pecan-growers-association-conference-trade-show/
LOCATION:Embassy Suites Hotel & Conference Center\, 3100 Town Center Tr.\, Denton\, TX\, 76201\, United States
ATTACH;FMTTYPE=image/jpeg:https://fewaglobal.org/wp-content/uploads/2023/05/277788504_628790635205554_1593993794876242316_n-e1684342084430.jpg
END:VEVENT
END:VCALENDAR