BEGIN:VCALENDAR
VERSION:2.0
PRODID:-//FEWA Global - ECPv6.15.20//NONSGML v1.0//EN
CALSCALE:GREGORIAN
METHOD:PUBLISH
X-WR-CALNAME:FEWA Global
X-ORIGINAL-URL:https://fewaglobal.org
X-WR-CALDESC:Events for FEWA Global
REFRESH-INTERVAL;VALUE=DURATION:PT1H
X-Robots-Tag:noindex
X-PUBLISHED-TTL:PT1H
BEGIN:VTIMEZONE
TZID:America/Chicago
BEGIN:DAYLIGHT
TZOFFSETFROM:-0600
TZOFFSETTO:-0500
TZNAME:CDT
DTSTART:20220313T080000
END:DAYLIGHT
BEGIN:STANDARD
TZOFFSETFROM:-0500
TZOFFSETTO:-0600
TZNAME:CST
DTSTART:20221106T070000
END:STANDARD
BEGIN:DAYLIGHT
TZOFFSETFROM:-0600
TZOFFSETTO:-0500
TZNAME:CDT
DTSTART:20230312T080000
END:DAYLIGHT
BEGIN:STANDARD
TZOFFSETFROM:-0500
TZOFFSETTO:-0600
TZNAME:CST
DTSTART:20231105T070000
END:STANDARD
BEGIN:DAYLIGHT
TZOFFSETFROM:-0600
TZOFFSETTO:-0500
TZNAME:CDT
DTSTART:20240310T080000
END:DAYLIGHT
BEGIN:STANDARD
TZOFFSETFROM:-0500
TZOFFSETTO:-0600
TZNAME:CST
DTSTART:20241103T070000
END:STANDARD
END:VTIMEZONE
BEGIN:VEVENT
DTSTART;VALUE=DATE:20230510
DTEND;VALUE=DATE:20230514
DTSTAMP:20260425T165634
CREATED:20230315T173454Z
LAST-MODIFIED:20230510T160629Z
UID:773-1683676800-1684022399@fewaglobal.org
SUMMARY:South Texas Country Elevator Conference
DESCRIPTION:FEWA will be presenting on agricultural labor solutions May 12th.
URL:https://fewaglobal.org/event/south-texas-county-elevator-conference/
LOCATION:Isla Grand Beach Resort\, 500 Padre Blvd.\, South Padre Island\, TX\, 78597\, United States
ATTACH;FMTTYPE=image/jpeg:https://fewaglobal.org/wp-content/uploads/2023/03/57446544_10114923188871754_7333698198843686912_n-e1683735046298.jpg
END:VEVENT
BEGIN:VEVENT
DTSTART;TZID=America/Chicago:20230516T140000
DTEND;TZID=America/Chicago:20230516T143000
DTSTAMP:20260425T165634
CREATED:20230504T155452Z
LAST-MODIFIED:20230504T162257Z
UID:934-1684245600-1684247400@fewaglobal.org
SUMMARY:Webinar - H-2B Legislative Update
DESCRIPTION:FEWA members will join FEWA’s Washington\, D.C. representative\, Laurie Flanagan in a live discussion regarding the status on H-2B Cap Legislation for FY 2024.  We will be discussing plans for temporary relief through the appropriations process and potential permanent relief bills.
URL:https://fewaglobal.org/event/webinar-h-2b-legislative-update/
LOCATION:On-Line
END:VEVENT
END:VCALENDAR