BEGIN:VCALENDAR
VERSION:2.0
PRODID:-//FEWA Global - ECPv6.15.20//NONSGML v1.0//EN
CALSCALE:GREGORIAN
METHOD:PUBLISH
X-WR-CALNAME:FEWA Global
X-ORIGINAL-URL:https://fewaglobal.org
X-WR-CALDESC:Events for FEWA Global
REFRESH-INTERVAL;VALUE=DURATION:PT1H
X-Robots-Tag:noindex
X-PUBLISHED-TTL:PT1H
BEGIN:VTIMEZONE
TZID:America/Chicago
BEGIN:DAYLIGHT
TZOFFSETFROM:-0600
TZOFFSETTO:-0500
TZNAME:CDT
DTSTART:20220313T080000
END:DAYLIGHT
BEGIN:STANDARD
TZOFFSETFROM:-0500
TZOFFSETTO:-0600
TZNAME:CST
DTSTART:20221106T070000
END:STANDARD
BEGIN:DAYLIGHT
TZOFFSETFROM:-0600
TZOFFSETTO:-0500
TZNAME:CDT
DTSTART:20230312T080000
END:DAYLIGHT
BEGIN:STANDARD
TZOFFSETFROM:-0500
TZOFFSETTO:-0600
TZNAME:CST
DTSTART:20231105T070000
END:STANDARD
BEGIN:DAYLIGHT
TZOFFSETFROM:-0600
TZOFFSETTO:-0500
TZNAME:CDT
DTSTART:20240310T080000
END:DAYLIGHT
BEGIN:STANDARD
TZOFFSETFROM:-0500
TZOFFSETTO:-0600
TZNAME:CST
DTSTART:20241103T070000
END:STANDARD
END:VTIMEZONE
BEGIN:VEVENT
DTSTART;TZID=America/Chicago:20230302T150000
DTEND;TZID=America/Chicago:20230302T153000
DTSTAMP:20260425T195603
CREATED:20230410T132643Z
LAST-MODIFIED:20230410T132643Z
UID:917-1677769200-1677771000@fewaglobal.org
SUMMARY:Webinar: Streamline Your Approach to Agriculture Labor Management
DESCRIPTION:Join our webinar presented by Arnulfo Hinojosa of FEWA to gain insight into current labor trends and how FEWA’s not-for profit business model is helping the Agriculture community streamline their seasonal worker programs.
URL:https://fewaglobal.org/event/webinar-streamline-your-approach-to-agriculture-labor-management-3/
LOCATION:On-Line
ATTACH;FMTTYPE=image/jpeg:https://fewaglobal.org/wp-content/uploads/2022/11/Untitled-design-53.jpg
END:VEVENT
BEGIN:VEVENT
DTSTART;TZID=America/Chicago:20230308T120000
DTEND;TZID=America/Chicago:20230308T123000
DTSTAMP:20260425T195603
CREATED:20230410T132309Z
LAST-MODIFIED:20230410T132309Z
UID:915-1678276800-1678278600@fewaglobal.org
SUMMARY:Webinar: Streamline Your Approach to Agriculture Labor Management
DESCRIPTION:Join our webinar presented by Arnulfo Hinojosa of FEWA to gain insight into current labor trends and how FEWA’s not-for profit business model is helping the Agriculture community streamline their seasonal worker programs.
URL:https://fewaglobal.org/event/webinar-streamline-your-approach-to-agriculture-labor-management-2/
LOCATION:On-Line
ATTACH;FMTTYPE=image/jpeg:https://fewaglobal.org/wp-content/uploads/2022/11/Untitled-design-53.jpg
END:VEVENT
BEGIN:VEVENT
DTSTART;TZID=America/Chicago:20230310T100000
DTEND;TZID=America/Chicago:20230310T103000
DTSTAMP:20260425T195603
CREATED:20230410T130605Z
LAST-MODIFIED:20230410T130605Z
UID:910-1678442400-1678444200@fewaglobal.org
SUMMARY:Webinar: Streamline Your Approach to Agriculture Labor Management
DESCRIPTION:Join our webinar presented by Arnulfo Hinojosa of FEWA to gain insight into current labor trends and how FEWA’s not-for profit business model is helping the Agriculture community streamline their seasonal worker programs.
URL:https://fewaglobal.org/event/webinar-streamline-your-approach-to-agriculture-labor-management/
LOCATION:On-Line
ATTACH;FMTTYPE=image/jpeg:https://fewaglobal.org/wp-content/uploads/2022/11/Untitled-design-53.jpg
END:VEVENT
END:VCALENDAR