BEGIN:VCALENDAR
VERSION:2.0
PRODID:-//FEWA Global - ECPv6.15.20//NONSGML v1.0//EN
CALSCALE:GREGORIAN
METHOD:PUBLISH
X-WR-CALNAME:FEWA Global
X-ORIGINAL-URL:https://fewaglobal.org
X-WR-CALDESC:Events for FEWA Global
REFRESH-INTERVAL;VALUE=DURATION:PT1H
X-Robots-Tag:noindex
X-PUBLISHED-TTL:PT1H
BEGIN:VTIMEZONE
TZID:America/Chicago
BEGIN:DAYLIGHT
TZOFFSETFROM:-0600
TZOFFSETTO:-0500
TZNAME:CDT
DTSTART:20210314T080000
END:DAYLIGHT
BEGIN:STANDARD
TZOFFSETFROM:-0500
TZOFFSETTO:-0600
TZNAME:CST
DTSTART:20211107T070000
END:STANDARD
BEGIN:DAYLIGHT
TZOFFSETFROM:-0600
TZOFFSETTO:-0500
TZNAME:CDT
DTSTART:20220313T080000
END:DAYLIGHT
BEGIN:STANDARD
TZOFFSETFROM:-0500
TZOFFSETTO:-0600
TZNAME:CST
DTSTART:20221106T070000
END:STANDARD
BEGIN:DAYLIGHT
TZOFFSETFROM:-0600
TZOFFSETTO:-0500
TZNAME:CDT
DTSTART:20230312T080000
END:DAYLIGHT
BEGIN:STANDARD
TZOFFSETFROM:-0500
TZOFFSETTO:-0600
TZNAME:CST
DTSTART:20231105T070000
END:STANDARD
BEGIN:DAYLIGHT
TZOFFSETFROM:-0600
TZOFFSETTO:-0500
TZNAME:CDT
DTSTART:20240310T080000
END:DAYLIGHT
BEGIN:STANDARD
TZOFFSETFROM:-0500
TZOFFSETTO:-0600
TZNAME:CST
DTSTART:20241103T070000
END:STANDARD
END:VTIMEZONE
BEGIN:VEVENT
DTSTART;TZID=America/Chicago:20230621T140000
DTEND;TZID=America/Chicago:20230621T170000
DTSTAMP:20260423T133637
CREATED:20230531T212500Z
LAST-MODIFIED:20230531T212500Z
UID:952-1687356000-1687366800@fewaglobal.org
SUMMARY:Matagorda County Crop Tour
DESCRIPTION:
URL:https://fewaglobal.org/event/matagorda-county-crop-tour/
LOCATION:El Maton National Hall\, 565 FM 1095\, El Maton\, 77440\, United States
END:VEVENT
BEGIN:VEVENT
DTSTART;VALUE=DATE:20230613
DTEND;VALUE=DATE:20230615
DTSTAMP:20260423T133637
CREATED:20230328T153410Z
LAST-MODIFIED:20230504T162333Z
UID:796-1686614400-1686787199@fewaglobal.org
SUMMARY:H-2B Fly In
DESCRIPTION:FEWA’s Annual H-2B Member Fly-In is partnering with the National Association of Landscape Professionals (NALP) Legislative Days in Washington\, D.C\, June 13-14\, 2023.  We are joining together to host one event on the Hill to discuss the importance of immediate and permanent H-2B cap relief.
URL:https://fewaglobal.org/event/h-2b-fly-in/
LOCATION:Washington\, D.C.
ATTACH;FMTTYPE=image/jpeg:https://fewaglobal.org/wp-content/uploads/2023/03/2020-FEWA-Fly-In-Topper-600x200-1.jpg
END:VEVENT
BEGIN:VEVENT
DTSTART;TZID=America/Chicago:20230516T140000
DTEND;TZID=America/Chicago:20230516T143000
DTSTAMP:20260423T133637
CREATED:20230504T155452Z
LAST-MODIFIED:20230504T162257Z
UID:934-1684245600-1684247400@fewaglobal.org
SUMMARY:Webinar - H-2B Legislative Update
DESCRIPTION:FEWA members will join FEWA’s Washington\, D.C. representative\, Laurie Flanagan in a live discussion regarding the status on H-2B Cap Legislation for FY 2024.  We will be discussing plans for temporary relief through the appropriations process and potential permanent relief bills.
URL:https://fewaglobal.org/event/webinar-h-2b-legislative-update/
LOCATION:On-Line
END:VEVENT
BEGIN:VEVENT
DTSTART;VALUE=DATE:20230510
DTEND;VALUE=DATE:20230514
DTSTAMP:20260423T133637
CREATED:20230315T173454Z
LAST-MODIFIED:20230510T160629Z
UID:773-1683676800-1684022399@fewaglobal.org
SUMMARY:South Texas Country Elevator Conference
DESCRIPTION:FEWA will be presenting on agricultural labor solutions May 12th.
URL:https://fewaglobal.org/event/south-texas-county-elevator-conference/
LOCATION:Isla Grand Beach Resort\, 500 Padre Blvd.\, South Padre Island\, TX\, 78597\, United States
ATTACH;FMTTYPE=image/jpeg:https://fewaglobal.org/wp-content/uploads/2023/03/57446544_10114923188871754_7333698198843686912_n-e1683735046298.jpg
END:VEVENT
BEGIN:VEVENT
DTSTART;TZID=America/Chicago:20230310T100000
DTEND;TZID=America/Chicago:20230310T103000
DTSTAMP:20260423T133637
CREATED:20230410T130605Z
LAST-MODIFIED:20230410T130605Z
UID:910-1678442400-1678444200@fewaglobal.org
SUMMARY:Webinar: Streamline Your Approach to Agriculture Labor Management
DESCRIPTION:Join our webinar presented by Arnulfo Hinojosa of FEWA to gain insight into current labor trends and how FEWA’s not-for profit business model is helping the Agriculture community streamline their seasonal worker programs.
URL:https://fewaglobal.org/event/webinar-streamline-your-approach-to-agriculture-labor-management/
LOCATION:On-Line
ATTACH;FMTTYPE=image/jpeg:https://fewaglobal.org/wp-content/uploads/2022/11/Untitled-design-53.jpg
END:VEVENT
BEGIN:VEVENT
DTSTART;TZID=America/Chicago:20230308T120000
DTEND;TZID=America/Chicago:20230308T123000
DTSTAMP:20260423T133637
CREATED:20230410T132309Z
LAST-MODIFIED:20230410T132309Z
UID:915-1678276800-1678278600@fewaglobal.org
SUMMARY:Webinar: Streamline Your Approach to Agriculture Labor Management
DESCRIPTION:Join our webinar presented by Arnulfo Hinojosa of FEWA to gain insight into current labor trends and how FEWA’s not-for profit business model is helping the Agriculture community streamline their seasonal worker programs.
URL:https://fewaglobal.org/event/webinar-streamline-your-approach-to-agriculture-labor-management-2/
LOCATION:On-Line
ATTACH;FMTTYPE=image/jpeg:https://fewaglobal.org/wp-content/uploads/2022/11/Untitled-design-53.jpg
END:VEVENT
BEGIN:VEVENT
DTSTART;TZID=America/Chicago:20230302T150000
DTEND;TZID=America/Chicago:20230302T153000
DTSTAMP:20260423T133637
CREATED:20230410T132643Z
LAST-MODIFIED:20230410T132643Z
UID:917-1677769200-1677771000@fewaglobal.org
SUMMARY:Webinar: Streamline Your Approach to Agriculture Labor Management
DESCRIPTION:Join our webinar presented by Arnulfo Hinojosa of FEWA to gain insight into current labor trends and how FEWA’s not-for profit business model is helping the Agriculture community streamline their seasonal worker programs.
URL:https://fewaglobal.org/event/webinar-streamline-your-approach-to-agriculture-labor-management-3/
LOCATION:On-Line
ATTACH;FMTTYPE=image/jpeg:https://fewaglobal.org/wp-content/uploads/2022/11/Untitled-design-53.jpg
END:VEVENT
BEGIN:VEVENT
DTSTART;VALUE=DATE:20230203
DTEND;VALUE=DATE:20230204
DTSTAMP:20260423T133637
CREATED:20230118T224230Z
LAST-MODIFIED:20230118T224230Z
UID:755-1675382400-1675468799@fewaglobal.org
SUMMARY:TNLA Region II Winter Workshop
DESCRIPTION:
URL:https://fewaglobal.org/event/tnla-region-ii-winter-workshop/
LOCATION:West Houston Institute- Houston Community College\, 2811 Hayes Road\, Houston\, TX\, 77082\, United States
END:VEVENT
BEGIN:VEVENT
DTSTART;TZID=America/Chicago:20230120T133000
DTEND;TZID=America/Chicago:20230120T200000
DTSTAMP:20260423T133637
CREATED:20230110T155236Z
LAST-MODIFIED:20230110T161443Z
UID:737-1674221400-1674244800@fewaglobal.org
SUMMARY:Gulf Coast Regional Cattleman's Workshop & Trade Show
DESCRIPTION:
URL:https://fewaglobal.org/event/gulf-coast-regional-cattlemans-workshop-trade-show/
LOCATION:Bay City Civic Center\, 201 7th St.\, Bay City\, TX\, 77414\, United States
ATTACH;FMTTYPE=image/jpeg:https://fewaglobal.org/wp-content/uploads/2023/01/324502107_1299893384198972_6647115008798151498_n-e1673366250405.jpg
END:VEVENT
BEGIN:VEVENT
DTSTART;TZID=America/Chicago:20230110T080000
DTEND;TZID=America/Chicago:20230112T170000
DTSTAMP:20260423T133637
CREATED:20220912T203603Z
LAST-MODIFIED:20220912T204933Z
UID:569-1673337600-1673542800@fewaglobal.org
SUMMARY:Northern Green 2023
DESCRIPTION:Northern Green is the largest trade show and educational conference in the north-central region for green industry professionals.
URL:https://fewaglobal.org/event/northern-green-2023/
LOCATION:Minneapolis Convention Center\, 1301 -2nd Avenue South\, Minneapolis\, MN\, 55403\, United States
ATTACH;FMTTYPE=image/png:https://fewaglobal.org/wp-content/uploads/2022/09/NorthernGreenLogo-horiz-short-lgtype.png
END:VEVENT
BEGIN:VEVENT
DTSTART;TZID=America/Chicago:20221020T063000
DTEND;TZID=America/Chicago:20221020T080000
DTSTAMP:20260423T133637
CREATED:20220912T200131Z
LAST-MODIFIED:20220912T202820Z
UID:560-1666247400-1666252800@fewaglobal.org
SUMMARY:Matagorda County Ag Producers Breakfast
DESCRIPTION:Join the Bay City Chamber of Commerce for the “Ag Producers Breakfast”. Guest speaker Owen Frederic with John Deere’s Ag and Turf Division will discuss the ag outlook for 2023\, share the latest information on agriculture technology and data.
URL:https://fewaglobal.org/event/matagorda-county-ag-producers-breakfast/
LOCATION:Bay City Civic Center\, 201 7th St.\, Bay City\, TX\, 77414\, United States
END:VEVENT
BEGIN:VEVENT
DTSTART;TZID=America/Chicago:20221019T083000
DTEND;TZID=America/Chicago:20221019T130000
DTSTAMP:20260423T133637
CREATED:20221017T214512Z
LAST-MODIFIED:20221017T214649Z
UID:602-1666168200-1666184400@fewaglobal.org
SUMMARY:Soil Health Field Day
DESCRIPTION:Matagorda County Soil and Water Conservation District “Soil Health Field Day”
URL:https://fewaglobal.org/event/soil-health-field-day/
LOCATION:El Maton National Hall\, 565 FM 1095\, El Maton\, 77440\, United States
END:VEVENT
BEGIN:VEVENT
DTSTART;TZID=America/Chicago:20221014T080000
DTEND;TZID=America/Chicago:20221018T170000
DTSTAMP:20260423T133637
CREATED:20220912T204806Z
LAST-MODIFIED:20220912T204806Z
UID:574-1665734400-1666112400@fewaglobal.org
SUMMARY:2022 Reunion
DESCRIPTION:Neighborly® 2022 REUNION
URL:https://fewaglobal.org/event/2022-reunion/
LOCATION:Gaylord Opryland Resort & Convention Center\, 2800 Opryland Drive\, Nashville\, TN\, 37214\, United States
ATTACH;FMTTYPE=image/png:https://fewaglobal.org/wp-content/uploads/2022/09/NEI-LO-Reunion2022-JaggedEdges.2110011046166-e1663016463280.png
END:VEVENT
BEGIN:VEVENT
DTSTART;TZID=America/Chicago:20220926T163000
DTEND;TZID=America/Chicago:20220928T113000
DTSTAMP:20260423T133637
CREATED:20220901T213421Z
LAST-MODIFIED:20220912T185839Z
UID:524-1664209800-1664364600@fewaglobal.org
SUMMARY:Nursery Management Conference
DESCRIPTION:The nursery management industry is filled with its own set of unique challenges. From labor to customer retention and succession planning to supply chain issues — the spectrum is vast. \nBUT YOU ARE NOT IN IT ALONE!\nThe Nursery Management Conference brings together industry peers who face the same challenges as you. They understand what keeps you up at night and they are coming to the Nursery Management Conference with candor\, openness and the spirit of collaboration. \nJoin us in Fort Worth\, Texas\, September 26-28\, 2022 for next-level education and candid roundtable discussions. You will leave with tangible\, actionable ideas that will improve production processes\, bolster business management techniques and grow profits! \nFEWA is a sponsor for this event and will have a table to share information with guests.
URL:https://fewaglobal.org/event/nursery-management-conference/
LOCATION:Worthington Renaissance Fort Worth Hotel\, 200 Main St.\, Fort Worth\, Texas\, 76102
ATTACH;FMTTYPE=image/jpeg:https://fewaglobal.org/wp-content/uploads/2022/09/nursery-conference-logo-e1663009040467.jpg
END:VEVENT
BEGIN:VEVENT
DTSTART;TZID=America/Chicago:20220922T080000
DTEND;TZID=America/Chicago:20220923T170000
DTSTAMP:20260423T133637
CREATED:20220901T212117Z
LAST-MODIFIED:20220912T205626Z
UID:514-1663833600-1663952400@fewaglobal.org
SUMMARY:Southeast Texas Urban Ag & Farm Safety Summit
DESCRIPTION:New and Existing landowners will get new information on crops\, technology\, and farm business and practices at the upcoming summit. \nFEWA Vice President\, Arnulfo Hinojosa will speak on September 23 at 11am. The topic will be “How to Employ Temporary Agricultural Workers – H2A”.
URL:https://fewaglobal.org/event/southeast-texas-urban-ag-farm-safety-summit/
LOCATION:Gerald D. Young Agricultural Sciences Center\, 5801 Katy Hockley Cut Off Road\, Katy\, TX\, 77493\, United States
END:VEVENT
BEGIN:VEVENT
DTSTART;TZID=America/Chicago:20220918T080000
DTEND;TZID=America/Chicago:20220921T170000
DTSTAMP:20260423T133637
CREATED:20220912T191643Z
LAST-MODIFIED:20220912T194719Z
UID:551-1663488000-1663779600@fewaglobal.org
SUMMARY:National Association of Landscape Professionals  - Elevate
DESCRIPTION:Energized\, innovative and collaborative. The new national conference and expo (formerly LANDSCAPES and GIE) for landscape maintenance\, lawn care\, design build\, irrigation\, and horticulture professionals is here: ELEVATE. \nThe National Association of Landscape Professionals is bringing together industry icons\, thought leaders and new partners to reimagine the future of the profession and the needs of the green community. The result? A more focused event that will better serve our industry\, inspire change and propel our professionalism at every level. \nJoin a panel of H-2B experts\, including FEWA Vice President\, Arnulfo Hinojosa as they discuss everything H-2B. During the session you will receive updates on the H-2B program for 2023 as we head into a lame duck Congress after November mid-terms. Washington insiders will provide inside information on the politics at play\, the opportunities for cap relief and how you can become more engaged in this process. Additionally\, the panel will include processing agents and attorneys that can provide additional information on accessing the Northern Triangle and answer filling questions.
URL:https://fewaglobal.org/event/national-association-of-landscape-professionals-elevate/
LOCATION:Gaylord Palms Resort and Convention Center\, 6000 W Osceola Parkway\, Orlando\, FL\, 34746\, United States
ATTACH;FMTTYPE=image/jpeg:https://fewaglobal.org/wp-content/uploads/2022/09/Elevate_Header_Logo_E-e1679402114422.jpg
END:VEVENT
END:VCALENDAR