BEGIN:VCALENDAR
VERSION:2.0
PRODID:-//FEWA Global - ECPv6.15.20//NONSGML v1.0//EN
CALSCALE:GREGORIAN
METHOD:PUBLISH
X-ORIGINAL-URL:https://fewaglobal.org
X-WR-CALDESC:Events for FEWA Global
REFRESH-INTERVAL;VALUE=DURATION:PT1H
X-Robots-Tag:noindex
X-PUBLISHED-TTL:PT1H
BEGIN:VTIMEZONE
TZID:America/Chicago
BEGIN:DAYLIGHT
TZOFFSETFROM:-0600
TZOFFSETTO:-0500
TZNAME:CDT
DTSTART:20230312T080000
END:DAYLIGHT
BEGIN:STANDARD
TZOFFSETFROM:-0500
TZOFFSETTO:-0600
TZNAME:CST
DTSTART:20231105T070000
END:STANDARD
BEGIN:DAYLIGHT
TZOFFSETFROM:-0600
TZOFFSETTO:-0500
TZNAME:CDT
DTSTART:20240310T080000
END:DAYLIGHT
BEGIN:STANDARD
TZOFFSETFROM:-0500
TZOFFSETTO:-0600
TZNAME:CST
DTSTART:20241103T070000
END:STANDARD
BEGIN:DAYLIGHT
TZOFFSETFROM:-0600
TZOFFSETTO:-0500
TZNAME:CDT
DTSTART:20250309T080000
END:DAYLIGHT
BEGIN:STANDARD
TZOFFSETFROM:-0500
TZOFFSETTO:-0600
TZNAME:CST
DTSTART:20251102T070000
END:STANDARD
END:VTIMEZONE
BEGIN:VEVENT
DTSTART;VALUE=DATE:20240814
DTEND;VALUE=DATE:20240817
DTSTAMP:20260424T200359
CREATED:20240328T234521Z
LAST-MODIFIED:20240329T003241Z
UID:1942-1723593600-1723852799@fewaglobal.org
SUMMARY:Nursery/Landscape Expo 2024
DESCRIPTION:Arnulfo Hinojosa\, FEWA \nFEWA will be part of a panel discussion during the Texas Nursery/Landscape Expo 2024 in San Antonio\, TX\, at the Henry B. Gonzalez Convention Center\,  Aug. 14-16\, 2024. \nThe panel discussion is scheduled for 2:10 p.m. on August 15. 2024\, at Meet Up Gardens located on the tradeshow floor.  FEWA Vice President Arnulfo Hinojosa and DCLRS Laurie Flannagan will provide updates on H2A and H2B. \n  \nLaurie Flannigan\, DCLRS
URL:https://fewaglobal.org/event/nursery-landscape-expo-2024/
LOCATION:Henry B. Gonzalez Convention Center\, 900 E Market\, San
ATTACH;FMTTYPE=image/png:https://fewaglobal.org/wp-content/uploads/2024/03/TX-Expo.png
END:VEVENT
END:VCALENDAR